BEGIN:VCALENDAR
VERSION:2.0
PRODID:-//Tukios.com/
BEGIN:VEVENT
UID:ab8c6ab8-e358-4698-8cbd-2ddea474e0a6@www.deefuneralhome.com
DTSTAMP:20260421T235555Z
DTSTART:20260502T180000Z
DTEND:20260502T190000Z
SUMMARY:Memorial Service
DESCRIPTION:
URL:https://www.deefuneralhome.com/obituaries/patricia-magee
LOCATION:First Parish Church 630 Massachusetts Ave  Arlington MA 02476
GEO:42.4154931;-71.1542161
END:VEVENT
END:VCALENDAR