BEGIN:VCALENDAR
VERSION:2.0
PRODID:-//Tukios.com/
BEGIN:VEVENT
UID:d05c478b-b803-4788-8941-e1a2fa6645e6@www.deefuneralhome.com
DTSTAMP:20260422T195523Z
DTSTART:20260424T193000Z
DTEND:20260424T203000Z
SUMMARY:Graveside Service
DESCRIPTION:
URL:https://www.deefuneralhome.com/obituaries/martha-mitchell
LOCATION: 44 Lexington Road  Lincoln MA 01773
GEO:42.432762;-71.2937913
END:VEVENT
END:VCALENDAR