BEGIN:VCALENDAR
VERSION:2.0
PRODID:-//Tukios.com/
BEGIN:VEVENT
UID:d500432a-b58f-4365-ac03-a725155a09c5@www.deefuneralhome.com
DTSTAMP:20260419T190402Z
DTSTART:20260502T200000Z
DTEND:20260502T210000Z
SUMMARY:Memorial Service
DESCRIPTION:
URL:https://www.deefuneralhome.com/obituaries/laura-stookey
LOCATION:First Parish in Lincoln 4 Bedford Rd  Lincoln MA 01773
GEO:42.4263936;-71.3037094
END:VEVENT
END:VCALENDAR