BEGIN:VCALENDAR
VERSION:2.0
PRODID:-//Tukios.com/
BEGIN:VEVENT
UID:a5c937dc-d3ab-4e93-9cd2-e6a9786385bf@www.deefuneralhome.com
DTSTAMP:20260423T040201Z
DTSTART:20260427
SUMMARY:Burial
DESCRIPTION:
URL:https://www.deefuneralhome.com/obituaries/kenneth-senne
LOCATION:  Bedford St  Concord MA 01742
GEO:42.465567;-71.335923
END:VEVENT
END:VCALENDAR