BEGIN:VCALENDAR
VERSION:2.0
PRODID:-//Tukios.com/
BEGIN:VEVENT
UID:62e4ccc2-d692-4cfc-bb5c-db260868d657@www.deefuneralhome.com
DTSTAMP:20260423T040433Z
DTSTART:20260427T180000Z
DTEND:20260427T190000Z
SUMMARY:Funeral Service
DESCRIPTION:
URL:https://www.deefuneralhome.com/obituaries/kenneth-senne
LOCATION: 80 Deaconess Road  Concord MA 01742
GEO:42.4502892;-71.3763491
END:VEVENT
END:VCALENDAR