BEGIN:VCALENDAR
VERSION:2.0
PRODID:-//Tukios.com/
BEGIN:VEVENT
UID:65081693-5d2d-4c65-bfc7-60be53726ad0@www.deefuneralhome.com
DTSTAMP:20260423T040709Z
DTSTART:20260427T170000Z
DTEND:20260427T180000Z
SUMMARY:Visitation
DESCRIPTION:
URL:https://www.deefuneralhome.com/obituaries/kenneth-senne
LOCATION:Duvall Chapel at Newbury Court 80 Deaconess Road  Concord MA 
	01742
GEO:42.4502892;-71.3763491
END:VEVENT
END:VCALENDAR