BEGIN:VCALENDAR
VERSION:2.0
PRODID:-//Tukios.com/
BEGIN:VEVENT
UID:f5274ddf-95e6-45c8-a2ec-6d6df153dccb@www.deefuneralhome.com
DTSTAMP:20260421T015014Z
DTSTART:20260502
SUMMARY:Burial
DESCRIPTION:
URL:https://www.deefuneralhome.com/obituaries/joan-kenneally
LOCATION: 500 Bedford Street  Concord MA 01742
GEO:42.4673621;-71.332336
END:VEVENT
END:VCALENDAR