BEGIN:VCALENDAR
VERSION:2.0
PRODID:-//Tukios.com/
BEGIN:VEVENT
UID:93acff61-e559-49f6-b9e7-369ec7e4b542@www.deefuneralhome.com
DTSTAMP:20260421T014659Z
DTSTART:20260502T133000Z
DTEND:20260502T143000Z
SUMMARY:Funeral Mass
DESCRIPTION:All are welcome to gather at Dee Funeral Home prior to the 
	Mass, beginning at 8:30 am
URL:https://www.deefuneralhome.com/obituaries/joan-kenneally
LOCATION:St. Bernard’s Church at Holy Family Parish 12 Monument Square  
	Concord MA 01742
GEO:42.4609129;-71.3482641
END:VEVENT
END:VCALENDAR