BEGIN:VCALENDAR
VERSION:2.0
PRODID:-//Tukios.com/
BEGIN:VEVENT
UID:c3fb411c-d1b2-4eb5-81ac-b0782d2e9730@www.deefuneralhome.com
DTSTAMP:20260421T014750Z
DTSTART:20260501T210000Z
DTEND:20260502T000000Z
SUMMARY:Visiting Hours
DESCRIPTION:
URL:https://www.deefuneralhome.com/obituaries/joan-kenneally
LOCATION: 27 Bedford St  Concord MA 01742
GEO:42.4614972;-71.3480849
END:VEVENT
END:VCALENDAR