BEGIN:VCALENDAR
VERSION:2.0
PRODID:-//Tukios.com/
BEGIN:VEVENT
UID:ce7e3883-d4da-4a20-8c5c-e00f8920e88e@www.deefuneralhome.com
DTSTAMP:20260422T193027Z
DTSTART:20260606T150000Z
DTEND:20260606T160000Z
SUMMARY:Celebration of Life
DESCRIPTION:
URL:https://www.deefuneralhome.com/obituaries/elaine-romero
LOCATION:St. Mary’s-in-Tuxedo 10 Fox Hill Road  Tuxedo Park NY 10987
GEO:41.196432;-74.1861357
END:VEVENT
END:VCALENDAR